BEGIN:VCALENDAR
VERSION:2.0
PRODID:-// - ECPv6.13.2.1//NONSGML v1.0//EN
CALSCALE:GREGORIAN
METHOD:PUBLISH
X-ORIGINAL-URL:https://www.trykci.org
X-WR-CALDESC:Events for 
REFRESH-INTERVAL;VALUE=DURATION:PT1H
X-Robots-Tag:noindex
X-PUBLISHED-TTL:PT1H
BEGIN:VTIMEZONE
TZID:UTC
BEGIN:STANDARD
TZOFFSETFROM:+0000
TZOFFSETTO:+0000
TZNAME:UTC
DTSTART:20260101T000000
END:STANDARD
END:VTIMEZONE
BEGIN:VEVENT
DTSTART;TZID=UTC:20260101T050000
DTEND;TZID=UTC:20261231T060000
DTSTAMP:20260423T125724
CREATED:20210429T205543Z
LAST-MODIFIED:20260221T205740Z
UID:1051-1767243600-1798696800@www.trykci.org
SUMMARY:Daily Prayer Call
DESCRIPTION:Monday – Friday\nPrayer Call 5:00 am CST\nSaturdays & Sundays\nPrayer Call 7:00 am CST\nEmail \n        \n            in**@tr****.org\n            \n                \n                \n                \n            \n            \n                \n                \n                \n            \n        \n to gain access to the Conference Call Number. \nClick Here to Access the FREE Prayer Empowerment Teachings (even if you’re not a member)!
URL:https://www.trykci.org/calendar/daily-prayer-call/
ATTACH;FMTTYPE=image/jpeg:https://www.trykci.org/wp-content/uploads/2021/04/Prayer-Hands-shutterstock_1065977915-scaled.jpg
END:VEVENT
BEGIN:VEVENT
DTSTART;TZID=UTC:20260104T100000
DTEND;TZID=UTC:20261227T120000
DTSTAMP:20260423T125724
CREATED:20240105T001751Z
LAST-MODIFIED:20260221T194147Z
UID:2120-1767520800-1798372800@www.trykci.org
SUMMARY:Sunday Morning Worship Service @ 10 AM
DESCRIPTION:Join us every SUNDAY @ 10 am:\nEmpowered People Church\n\n@ The Empowerment Center\n202 Forest Blvd.\, Park Forest\, IL\n(Old Chase Bank. Across from the police station.)\n\n~Pastor Kisia Coleman\,  Lead Pastor\nDr./Prophet D. John Coleman\, Overseer
URL:https://www.trykci.org/calendar/sunday-morning-worship-service-10-am/
ATTACH;FMTTYPE=image/png:https://www.trykci.org/wp-content/uploads/2024/01/2026-Winning-Graphic-for-Church-Social-Posts.png
ORGANIZER;CN="Empowered People Church":MAILTO:info@trykci.org
END:VEVENT
BEGIN:VEVENT
DTSTART;TZID=UTC:20260107T183000
DTEND;TZID=UTC:20261230T200000
DTSTAMP:20260423T125724
CREATED:20250811T214709Z
LAST-MODIFIED:20260221T210634Z
UID:3448-1767810600-1798660800@www.trykci.org
SUMMARY:YVPCA - Youth Program
DESCRIPTION:
URL:https://www.trykci.org/calendar/yvpca-flyer/
LOCATION:202 Forest Blvd.\, Park Forest\, IL  60466
ATTACH;FMTTYPE=image/jpeg:https://www.trykci.org/wp-content/uploads/2025/08/Youth-Violence-Prevention-Creative-Arts.jpg.jpg
END:VEVENT
BEGIN:VEVENT
DTSTART;TZID=UTC:20260127T110000
DTEND;TZID=UTC:20261229T121500
DTSTAMP:20260423T125724
CREATED:20251108T215049Z
LAST-MODIFIED:20260419T001219Z
UID:3508-1769511600-1798546500@www.trykci.org
SUMMARY:VPCC Monthly Meeting
DESCRIPTION:Every 4th Tuesday of the Month!\nViolence Prevention Community Convener Monthly Meeting\nInner City Empowerment Community Development Corporation is a 501(c)(3) organization that is under the umbrella of Kingdom Church International Ministries. Among many of our outreach services and roles that we play within the community\, under the guidance of the Illinois Office of Firearm Violence Prevention (OFVP) and the Illinois Department of Human Services\, we have been assigned as the Violence Prevention Community Convener (VPCC) for our local underserved community. Our mandate is to coordinate violence prevention efforts across various agencies and with community stakeholders in what OFVP’s Research Group has labeled as the Chicago Heights Cluster\, which comprises the Chicago Heights\, Park Forest\, and Sauk Village municipalities.\n  \nWe meet every 4th Tuesday @ 11 am on Zoom\nCLICK HERE TO JOIN THE MEETING
URL:https://www.trykci.org/calendar/vpcc-monthly-meeting-3/
ATTACH;FMTTYPE=image/jpeg:https://www.trykci.org/wp-content/uploads/2025/11/CREW-Flyer.jpg
END:VEVENT
BEGIN:VEVENT
DTSTART;VALUE=DATE:20260507
DTEND;VALUE=DATE:20260508
DTSTAMP:20260423T125724
CREATED:20240113T230324Z
LAST-MODIFIED:20260221T190708Z
UID:2154-1778112000-1778198399@www.trykci.org
SUMMARY:National Day of Prayer
DESCRIPTION:
URL:https://www.trykci.org/calendar/national-day-of-prayer/
ATTACH;FMTTYPE=image/png:https://www.trykci.org/wp-content/uploads/2024/01/ai-generated-8029395_1280.png
END:VEVENT
BEGIN:VEVENT
DTSTART;VALUE=DATE:20260510
DTEND;VALUE=DATE:20260511
DTSTAMP:20260423T125724
CREATED:20240113T232438Z
LAST-MODIFIED:20260221T215505Z
UID:2162-1778371200-1778457599@www.trykci.org
SUMMARY:Mother's Day
DESCRIPTION:Mother’s Day\, we’re blessing ALL mothers\, celebrating ALL women\, and empowering EVERYONE who shows up! Join us Mother’s Day!\nEmpowered People Church\nThe Empowerment Center\n202 Forest Blvd.\nPark Forest\, IL\nOR Online: https://www.facebook.com/KingdomChurchInternational
URL:https://www.trykci.org/calendar/mothers-day/
LOCATION:202 Forest Blvd.\, Park Forest\, IL  60466
END:VEVENT
BEGIN:VEVENT
DTSTART;VALUE=DATE:20260514
DTEND;VALUE=DATE:20260515
DTSTAMP:20260423T125724
CREATED:20220126T165829Z
LAST-MODIFIED:20260221T195103Z
UID:1310-1778716800-1778803199@www.trykci.org
SUMMARY:Kingdom Church International (KCI) Founder's Day
DESCRIPTION:
URL:https://www.trykci.org/calendar/kingdom-church-international-kci-founders-day/
ATTACH;FMTTYPE=image/png:https://www.trykci.org/wp-content/uploads/2021/07/KCI-2021-LOGO_updated-logo.png
ORGANIZER;CN="Empowered People Church":MAILTO:info@trykci.org
END:VEVENT
BEGIN:VEVENT
DTSTART;TZID=UTC:20260514T080000
DTEND;TZID=UTC:20260516T170000
DTSTAMP:20260423T125724
CREATED:20260221T202646Z
LAST-MODIFIED:20260419T001640Z
UID:3586-1778745600-1778950800@www.trykci.org
SUMMARY:Women of Weight Conference
DESCRIPTION:Save the Date – Pastor Kisia\, Special Guest Speaker
URL:https://www.trykci.org/calendar/women-of-weight-conference/
ATTACH;FMTTYPE=image/jpeg:https://www.trykci.org/wp-content/uploads/2026/04/Women-of-Weight-Conference-2026-2-for-Events-Calendar.jpg
END:VEVENT
BEGIN:VEVENT
DTSTART;VALUE=DATE:20260519
DTEND;VALUE=DATE:20260520
DTSTAMP:20260423T125724
CREATED:20250620T181707Z
LAST-MODIFIED:20260419T002555Z
UID:3417-1779148800-1779235199@www.trykci.org
SUMMARY:Pastor Kisia's 7th Year Pastoral Anniversary
DESCRIPTION:
URL:https://www.trykci.org/calendar/pastor-kisias-6th-year-pastoral-anniversary/
ATTACH;FMTTYPE=image/jpeg:https://www.trykci.org/wp-content/uploads/2025/06/Kisia-20260110-DSC_8602_2-scaled.jpg
END:VEVENT
BEGIN:VEVENT
DTSTART;VALUE=DATE:20260524
DTEND;VALUE=DATE:20260525
DTSTAMP:20260423T125724
CREATED:20220520T215609Z
LAST-MODIFIED:20260221T203112Z
UID:1411-1779580800-1779667199@www.trykci.org
SUMMARY:Summer Prayer for Youth
DESCRIPTION:Call your family and friends and make sure your young person is here to receive their BLESSING.  \nThis is a time where special prayer and anointing will take place to cover our young people for the summer months.
URL:https://www.trykci.org/calendar/summer-prayer-for-youth/
LOCATION:Majestic Office Center\, 5111 Sauk Trail\, Richton Park\, IL\, 60471\, United States
END:VEVENT
BEGIN:VEVENT
DTSTART;VALUE=DATE:20260524
DTEND;VALUE=DATE:20260525
DTSTAMP:20260423T125724
CREATED:20240113T232659Z
LAST-MODIFIED:20260221T185330Z
UID:2164-1779580800-1779667199@www.trykci.org
SUMMARY:Pentecost Sunday Worship Service @ 10 AM
DESCRIPTION:
URL:https://www.trykci.org/calendar/pentecost-sunday-worship-service-10-am/
LOCATION:202 Forest Blvd.\, Park Forest\, IL  60466
ATTACH;FMTTYPE=image/jpeg:https://www.trykci.org/wp-content/uploads/2024/01/holy-spirit-8771122_1280.jpg
END:VEVENT
BEGIN:VEVENT
DTSTART;VALUE=DATE:20260525
DTEND;VALUE=DATE:20260526
DTSTAMP:20260423T125724
CREATED:20240113T232749Z
LAST-MODIFIED:20260419T010508Z
UID:2166-1779667200-1779753599@www.trykci.org
SUMMARY:Memorial Day
DESCRIPTION:OFFICE CLOSED\nCelebrate our Beloved “Dre” with Our Family & Friends!
URL:https://www.trykci.org/calendar/memorial-day/
ATTACH;FMTTYPE=image/png:https://www.trykci.org/wp-content/uploads/2024/01/Dre-Memorial-Day-Celebration-Flyer.png
END:VEVENT
BEGIN:VEVENT
DTSTART;TZID=UTC:20260531T100000
DTEND;TZID=UTC:20260531T120000
DTSTAMP:20260423T125724
CREATED:20260221T175231Z
LAST-MODIFIED:20260419T024342Z
UID:3545-1780221600-1780228800@www.trykci.org
SUMMARY:Youth Takeover Service
DESCRIPTION:
URL:https://www.trykci.org/calendar/youth-takeover-service-3/
ATTACH;FMTTYPE=image/png:https://www.trykci.org/wp-content/uploads/2026/02/youth_takeover_service_photo_text_fixed.png
END:VEVENT
BEGIN:VEVENT
DTSTART;TZID=UTC:20260603T183000
DTEND;TZID=UTC:20260603T200000
DTSTAMP:20260423T125724
CREATED:20250521T231430Z
LAST-MODIFIED:20260419T010949Z
UID:3405-1780511400-1780516800@www.trykci.org
SUMMARY:Wear Orange Youth Event
DESCRIPTION:Inner City Empowerment CDC\nIs Under the Umbrella of Kingdom Church Intl.
URL:https://www.trykci.org/calendar/wear-orange-youth-event/
LOCATION:202 Forest Blvd.\, Park Forest\, IL  60466
ATTACH;FMTTYPE=image/png:https://www.trykci.org/wp-content/uploads/2025/05/2026-Wear-Orange-Event.png
END:VEVENT
BEGIN:VEVENT
DTSTART;VALUE=DATE:20260605
DTEND;VALUE=DATE:20260606
DTSTAMP:20260423T125724
CREATED:20240113T233232Z
LAST-MODIFIED:20260221T190340Z
UID:2170-1780617600-1780703999@www.trykci.org
SUMMARY:Gun Violence Awareness Day - Wear Orange Events
DESCRIPTION:
URL:https://www.trykci.org/calendar/gun-violence-awareness-prevention-day/
ATTACH;FMTTYPE=image/png:https://www.trykci.org/wp-content/uploads/2024/01/sign-3228713_1280.png
END:VEVENT
BEGIN:VEVENT
DTSTART;VALUE=DATE:20260611
DTEND;VALUE=DATE:20260613
DTSTAMP:20260423T125724
CREATED:20240113T233604Z
LAST-MODIFIED:20260221T193324Z
UID:2172-1781136000-1781308799@www.trykci.org
SUMMARY:12-Hour Prayer
DESCRIPTION:
URL:https://www.trykci.org/calendar/12-hour-prayer/
LOCATION:7621 S. Greenwood Ave\, Chicago\, IL 60619\, 7621 S. Greenwood Ave\, Chicago\, IL\, 60619\, United States
END:VEVENT
BEGIN:VEVENT
DTSTART;TZID=UTC:20260617T180000
DTEND;TZID=UTC:20260617T200000
DTSTAMP:20260423T125724
CREATED:20260221T221254Z
LAST-MODIFIED:20260419T030638Z
UID:3611-1781719200-1781726400@www.trykci.org
SUMMARY:Corvette Lineup - Mentoring Group
DESCRIPTION:
URL:https://www.trykci.org/calendar/corvette-lineup-mentoring-group/
ATTACH;FMTTYPE=image/png:https://www.trykci.org/wp-content/uploads/2026/02/Corvette-Lineup-Event.png
END:VEVENT
BEGIN:VEVENT
DTSTART;VALUE=DATE:20260619
DTEND;VALUE=DATE:20260620
DTSTAMP:20260423T125724
CREATED:20240113T234051Z
LAST-MODIFIED:20260221T201853Z
UID:2179-1781827200-1781913599@www.trykci.org
SUMMARY:Juneteenth
DESCRIPTION:OFFICE CLOSED
URL:https://www.trykci.org/calendar/juneteenth/
ATTACH;FMTTYPE=image/png:https://www.trykci.org/wp-content/uploads/2024/01/juneteenth-7276761_1280.png
END:VEVENT
BEGIN:VEVENT
DTSTART;VALUE=DATE:20260621
DTEND;VALUE=DATE:20260622
DTSTAMP:20260423T125724
CREATED:20250110T212424Z
LAST-MODIFIED:20260221T215717Z
UID:3226-1782000000-1782086399@www.trykci.org
SUMMARY:Father's Day
DESCRIPTION:
URL:https://www.trykci.org/calendar/fathers-day-2/
ATTACH;FMTTYPE=image/jpeg:https://www.trykci.org/wp-content/uploads/2025/01/fathers-day-8812235_1280.jpg
END:VEVENT
BEGIN:VEVENT
DTSTART;TZID=UTC:20260625T080000
DTEND;TZID=UTC:20260627T170000
DTSTAMP:20260423T125724
CREATED:20260221T202814Z
LAST-MODIFIED:20260221T202831Z
UID:3588-1782374400-1782579600@www.trykci.org
SUMMARY:Salt Shakers
DESCRIPTION:
URL:https://www.trykci.org/calendar/salt-shakers/
ATTACH;FMTTYPE=image/jpeg:https://www.trykci.org/wp-content/uploads/2026/02/Salt-Shakers-2026.jpg
END:VEVENT
BEGIN:VEVENT
DTSTART;VALUE=DATE:20260704
DTEND;VALUE=DATE:20260705
DTSTAMP:20260423T125724
CREATED:20250110T213030Z
LAST-MODIFIED:20260221T215757Z
UID:3240-1783123200-1783209599@www.trykci.org
SUMMARY:4th of July
DESCRIPTION:OFFICE CLOSED
URL:https://www.trykci.org/calendar/4th-of-july/
ATTACH;FMTTYPE=image/jpeg:https://www.trykci.org/wp-content/uploads/2025/01/american-flag-386512_1280.jpg
END:VEVENT
BEGIN:VEVENT
DTSTART;TZID=UTC:20260705T100000
DTEND;TZID=UTC:20260705T120000
DTSTAMP:20260423T125724
CREATED:20240113T235856Z
LAST-MODIFIED:20260221T184137Z
UID:2189-1783245600-1783252800@www.trykci.org
SUMMARY:Jogging Suit Sunday
DESCRIPTION:
URL:https://www.trykci.org/calendar/jogging-suit-sunday-2/
LOCATION:202 Forest Blvd.\, Park Forest\, IL  60466
ATTACH;FMTTYPE=image/jpeg:https://www.trykci.org/wp-content/uploads/2024/01/Jogging-Suit.jpg
END:VEVENT
BEGIN:VEVENT
DTSTART;VALUE=DATE:20260707
DTEND;VALUE=DATE:20260708
DTSTAMP:20260423T125724
CREATED:20240113T235346Z
LAST-MODIFIED:20260221T185000Z
UID:2183-1783382400-1783468799@www.trykci.org
SUMMARY:Pastor John & Kisia Coleman 30th Wedding Anniversary
DESCRIPTION:
URL:https://www.trykci.org/calendar/pastor-john-kisia-coleman-28th-wedding-anniversary/
ATTACH;FMTTYPE=image/png:https://www.trykci.org/wp-content/uploads/2024/01/John-Kisia-Dec-2024.png
END:VEVENT
BEGIN:VEVENT
DTSTART;TZID=UTC:20260712T100000
DTEND;TZID=UTC:20260712T120000
DTSTAMP:20260423T125724
CREATED:20240113T235810Z
LAST-MODIFIED:20260221T184055Z
UID:2187-1783850400-1783857600@www.trykci.org
SUMMARY:Jersey Sunday
DESCRIPTION:
URL:https://www.trykci.org/calendar/jersey-sunday-2/
LOCATION:202 Forest Blvd.\, Park Forest\, IL  60466
ATTACH;FMTTYPE=image/jpeg:https://www.trykci.org/wp-content/uploads/2024/01/Jersey.jpg
END:VEVENT
BEGIN:VEVENT
DTSTART;TZID=UTC:20260719T100000
DTEND;TZID=UTC:20260719T120000
DTSTAMP:20260423T125724
CREATED:20240113T235647Z
LAST-MODIFIED:20260221T184004Z
UID:2185-1784455200-1784462400@www.trykci.org
SUMMARY:Jean Sunday
DESCRIPTION:
URL:https://www.trykci.org/calendar/jean-sunday/
LOCATION:202 Forest Blvd.\, Park Forest\, IL  60466
ATTACH;FMTTYPE=image/jpeg:https://www.trykci.org/wp-content/uploads/2024/01/feet-349687_1280.jpg
END:VEVENT
BEGIN:VEVENT
DTSTART;TZID=UTC:20260724T190000
DTEND;TZID=UTC:20260724T220000
DTSTAMP:20260423T125724
CREATED:20250620T181406Z
LAST-MODIFIED:20260221T221450Z
UID:3413-1784919600-1784930400@www.trykci.org
SUMMARY:Glow in the Dark Youth Empowerment Night
DESCRIPTION:“Glow in the Dark”  Youth Empowerment Night\nFriday\, June 27th from 7 pm – 10 pm   \nAges 14 – 24\n\n\nFOOD\,  FUN\,  CONTESTS\,  EMPOWERMENT\,  SWAG GIFTS FOR ALL ATTENDEES  & More!\n\n\n> This is a free event but you should register to attend.\nScan the QR Code or Register Here: https://forms.gle/vDjxRvV5Pd5PMTBy9\n\n\n@ The Empowerment Center\n202 Forest Blvd.\, Park Forest\, IL\n(The Old Chase Bank – Across from the police station.)\n\n\nFor more information email \n        \n            do***@ic****.com\n            \n                \n                \n                \n            \n            \n                \n                \n                \n            \n        \n or call 708-252-DOIT
URL:https://www.trykci.org/calendar/glow-in-the-dark-youth-empowerment-night/
LOCATION:202 Forest Blvd.\, Park Forest\, IL  60466
ATTACH;FMTTYPE=image/jpeg:https://www.trykci.org/wp-content/uploads/2025/06/Glow-in-the-Dark-Youth-Event.jpg
END:VEVENT
BEGIN:VEVENT
DTSTART;TZID=UTC:20260726T100000
DTEND;TZID=UTC:20260726T120000
DTSTAMP:20260423T125724
CREATED:20240114T000120Z
LAST-MODIFIED:20260221T183408Z
UID:2191-1785060000-1785067200@www.trykci.org
SUMMARY:Gym Shoe Sunday
DESCRIPTION:
URL:https://www.trykci.org/calendar/gym-shoe-sunday/
LOCATION:202 Forest Blvd.\, Park Forest\, IL  60466
ATTACH;FMTTYPE=image/png:https://www.trykci.org/wp-content/uploads/2024/01/ai-generated-8691762_1280.png
END:VEVENT
BEGIN:VEVENT
DTSTART;TZID=UTC:20260802T100000
DTEND;TZID=UTC:20260802T120000
DTSTAMP:20260423T125724
CREATED:20250803T000638Z
LAST-MODIFIED:20260221T203237Z
UID:3424-1785664800-1785672000@www.trykci.org
SUMMARY:"Ready to Excel" Back to School Prayer
DESCRIPTION:
URL:https://www.trykci.org/calendar/ready-to-excel-back-to-school-prayer/
LOCATION:202 Forest Blvd.\, Park Forest\, IL  60466
ORGANIZER;CN="Empowered People Church":MAILTO:info@trykci.org
END:VEVENT
BEGIN:VEVENT
DTSTART;TZID=UTC:20260804T170000
DTEND;TZID=UTC:20260804T190000
DTSTAMP:20260423T125724
CREATED:20240423T194504Z
LAST-MODIFIED:20260221T183237Z
UID:2197-1785862800-1785870000@www.trykci.org
SUMMARY:National Night Out
DESCRIPTION:In 2025\, we participated in the National Night Out activities in both Richton Park and Sauk Village. We provided free Zarlengo’s Italian ice treats\, gun locks\, NARCAN\, and household items to attendees at these events. Our YVPCA team also performed at the Sauk Village event and received rave reviews as our young men and women spoke regarding gun violence before their inspirational dance. \nCLICK THIS IMAGE TO SEE THE RECAP PICTURES\n\n\n\n  \n 
URL:https://www.trykci.org/calendar/nationalnightout2025/
END:VEVENT
BEGIN:VEVENT
DTSTART;TZID=UTC:20260830T100000
DTEND;TZID=UTC:20260830T120000
DTSTAMP:20260423T125724
CREATED:20260221T175310Z
LAST-MODIFIED:20260221T175310Z
UID:3547-1788084000-1788091200@www.trykci.org
SUMMARY:Youth Takeover Service
DESCRIPTION:
URL:https://www.trykci.org/calendar/youth-takeover-service-4/
ATTACH;FMTTYPE=image/jpeg:https://www.trykci.org/wp-content/uploads/2025/11/Youth-Takeover-Service-Flyer-1.jpg
END:VEVENT
END:VCALENDAR